BEGIN:VCALENDAR
VERSION:2.0
PRODID:-//eventon.com NONSGML v1.0//EN
CALSCALE:GREGORIAN
METHOD:PUBLISH
BEGIN:VEVENT
UID:69e9ed9d6285a
DTSTAMP:20260423T095957Z
DTSTART:20260415
DTEND:20260416
LOCATION:Pazo de San Marcos Rúa San Marcos\,  8\,  27001 Lugo
SUMMARY:“A lingua do futuro / O futuro da lingua”
DESCRIPTION:Unha iniciativa que se inaugura coincidindo co Día Mundial da 
 Arte para reflexionar sobre a realidade sociolingüística de Galicia a tra
 vés da creación visual.\nhttps://comunidadermpl.gal/events/a-lingua-do-fu
 turo-o-futuro-da-lingua/
URL:https://comunidadermpl.gal/events/a-lingua-do-futuro-o-futuro-da-lingua/
END:VEVENT
END:VCALENDAR