BEGIN:VCALENDAR
VERSION:2.0
PRODID:-//eventon.com NONSGML v1.0//EN
CALSCALE:GREGORIAN
METHOD:PUBLISH
BEGIN:VEVENT
UID:69e78f8e3cd04
DTSTAMP:20260421T145406Z
DTSTART:20260421
DTEND:20260422
LOCATION:Museo Provincial de Lugo Pl. de la Soledad\,  s/n\,  27001 Lugo
SUMMARY:“TOCA “R”\,  DANZA “R”
DESCRIPTION:A exposición explora a relación histórica entre a escultura 
 e a danza\,  dúas disciplinas que comparten o corpo humano como canle de e
 xpresión\,  así como o uso do espazo\,  o tempo e o movemento. Mentres a 
 danza transforma o corpo nunha escultura dinámica\,  a escultura fixa ese 
 movemento\,  permitindo que[..]\nhttps://comunidadermpl.gal/events/toca-r-d
 anza-r/
URL:https://comunidadermpl.gal/events/toca-r-danza-r/
END:VEVENT
END:VCALENDAR