BEGIN:VCALENDAR
VERSION:2.0
PRODID:-//eventon.com NONSGML v1.0//EN
CALSCALE:GREGORIAN
METHOD:PUBLISH
BEGIN:VEVENT
UID:69e7901fa1f8c
DTSTAMP:20260421T145631Z
DTSTART:20260421T160000Z
DTEND:20260421T170000Z
LOCATION:Museo Provincial de Lugo Pl. de la Soledad\,  s/n\,  27001 Lugo
SUMMARY:Da Ribeira Sacra aos Andes:  Relatorio de altura en Lugo
DESCRIPTION:Durante o pasado verán\,  este grupo de mozos percorreu as cim
 as dos Andes nunha expedición que transcendeu o deportivo para centrarse n
 a pegada e o propósito social da viaxe.\nhttps://comunidadermpl.gal/events
 /da-ribeira-sacra-aos-andes-relatorio-de-altura-en-lugo/
URL:https://comunidadermpl.gal/events/da-ribeira-sacra-aos-andes-relatorio-de-altura-en-lugo/
END:VEVENT
END:VCALENDAR